BEGIN:VCALENDAR
VERSION:2.0
PRODID:-//Ephraim van IJzerlooij - ECPv6.15.17//NONSGML v1.0//EN
CALSCALE:GREGORIAN
METHOD:PUBLISH
X-ORIGINAL-URL:https://ephraimvanijzerlooij.nl
X-WR-CALDESC:Events for Ephraim van IJzerlooij
REFRESH-INTERVAL;VALUE=DURATION:PT1H
X-Robots-Tag:noindex
X-PUBLISHED-TTL:PT1H
BEGIN:VTIMEZONE
TZID:Europe/Amsterdam
BEGIN:DAYLIGHT
TZOFFSETFROM:+0100
TZOFFSETTO:+0200
TZNAME:CEST
DTSTART:20230326T010000
END:DAYLIGHT
BEGIN:STANDARD
TZOFFSETFROM:+0200
TZOFFSETTO:+0100
TZNAME:CET
DTSTART:20231029T010000
END:STANDARD
BEGIN:DAYLIGHT
TZOFFSETFROM:+0100
TZOFFSETTO:+0200
TZNAME:CEST
DTSTART:20240331T010000
END:DAYLIGHT
BEGIN:STANDARD
TZOFFSETFROM:+0200
TZOFFSETTO:+0100
TZNAME:CET
DTSTART:20241027T010000
END:STANDARD
BEGIN:DAYLIGHT
TZOFFSETFROM:+0100
TZOFFSETTO:+0200
TZNAME:CEST
DTSTART:20250330T010000
END:DAYLIGHT
BEGIN:STANDARD
TZOFFSETFROM:+0200
TZOFFSETTO:+0100
TZNAME:CET
DTSTART:20251026T010000
END:STANDARD
END:VTIMEZONE
BEGIN:VEVENT
DTSTART;TZID=Europe/Amsterdam:20241124T150000
DTEND;TZID=Europe/Amsterdam:20241124T170000
DTSTAMP:20260425T230017
CREATED:20241110T212649Z
LAST-MODIFIED:20241110T212653Z
UID:2687-1732460400-1732467600@ephraimvanijzerlooij.nl
SUMMARY:Najaarsconcert
DESCRIPTION:Symfonieorkest Haerlem brengt twee muzikale vertellingen en het briljante vioolconcert van Johannes Brahms met violiste Emma Roijackers.
URL:https://ephraimvanijzerlooij.nl/event/najaarsconcert/
LOCATION:PHIL Haarlem\, Lange Begijnenstraat 11\, Haarlem\, 2011 HH\, Netherlands
END:VEVENT
END:VCALENDAR