BEGIN:VCALENDAR
VERSION:2.0
PRODID:-//Ephraim van IJzerlooij - ECPv6.15.17//NONSGML v1.0//EN
CALSCALE:GREGORIAN
METHOD:PUBLISH
X-WR-CALNAME:Ephraim van IJzerlooij
X-ORIGINAL-URL:https://ephraimvanijzerlooij.nl
X-WR-CALDESC:Events for Ephraim van IJzerlooij
REFRESH-INTERVAL;VALUE=DURATION:PT1H
X-Robots-Tag:noindex
X-PUBLISHED-TTL:PT1H
BEGIN:VTIMEZONE
TZID:Europe/Amsterdam
BEGIN:DAYLIGHT
TZOFFSETFROM:+0100
TZOFFSETTO:+0200
TZNAME:CEST
DTSTART:20230326T010000
END:DAYLIGHT
BEGIN:STANDARD
TZOFFSETFROM:+0200
TZOFFSETTO:+0100
TZNAME:CET
DTSTART:20231029T010000
END:STANDARD
BEGIN:DAYLIGHT
TZOFFSETFROM:+0100
TZOFFSETTO:+0200
TZNAME:CEST
DTSTART:20240331T010000
END:DAYLIGHT
BEGIN:STANDARD
TZOFFSETFROM:+0200
TZOFFSETTO:+0100
TZNAME:CET
DTSTART:20241027T010000
END:STANDARD
BEGIN:DAYLIGHT
TZOFFSETFROM:+0100
TZOFFSETTO:+0200
TZNAME:CEST
DTSTART:20250330T010000
END:DAYLIGHT
BEGIN:STANDARD
TZOFFSETFROM:+0200
TZOFFSETTO:+0100
TZNAME:CET
DTSTART:20251026T010000
END:STANDARD
END:VTIMEZONE
BEGIN:VEVENT
DTSTART;TZID=Europe/Amsterdam:20240504T180000
DTEND;TZID=Europe/Amsterdam:20240504T180000
DTSTAMP:20260425T140921
CREATED:20240206T102524Z
LAST-MODIFIED:20240206T103223Z
UID:1729-1714845600-1714845600@ephraimvanijzerlooij.nl
SUMMARY:Oisterwijk: Herdenkingsconcert
DESCRIPTION:Met Yizkor van Josef Malkin en Requiem opus 194 van Joseph Rheinberger.
URL:https://ephraimvanijzerlooij.nl/event/oisterwijk-herdenkingsconcert/
LOCATION:Joanneskerk\, De Lind 50\, Oisterwijk\, 5061HX
ATTACH;FMTTYPE=image/png:https://ephraimvanijzerlooij.nl/wp-content/uploads/2024/01/Orkest.png
END:VEVENT
BEGIN:VEVENT
DTSTART;TZID=Europe/Amsterdam:20240423T200000
DTEND;TZID=Europe/Amsterdam:20240423T213000
DTSTAMP:20260425T140921
CREATED:20240317T155401Z
LAST-MODIFIED:20240317T155407Z
UID:2628-1713902400-1713907800@ephraimvanijzerlooij.nl
SUMMARY:Koorconcert Stichtse Vrije School
DESCRIPTION:Koorconcert SVS \nprogramma: \nThe Phantom of the Opera \nCantique de Jean Racine \nRuben Steinbuch- nieuw werk \nDan Forrest- Requiem for the living
URL:https://ephraimvanijzerlooij.nl/event/koorconcert-stichtse-vrije-school/
LOCATION:Tivoli Vredenburg\, Vredenburgkade 11\, Utrecht\, 3511WC\, Nederland
ATTACH;FMTTYPE=image/png:https://ephraimvanijzerlooij.nl/wp-content/uploads/2024/01/Orkest.png
END:VEVENT
BEGIN:VEVENT
DTSTART;TZID=Europe/Amsterdam:20240401T150000
DTEND;TZID=Europe/Amsterdam:20240401T170000
DTSTAMP:20260425T140921
CREATED:20240317T113333Z
LAST-MODIFIED:20240317T113338Z
UID:2622-1711983600-1711990800@ephraimvanijzerlooij.nl
SUMMARY:Paasviering: De Ik-Ben woorden
DESCRIPTION:Uitvoerenden:\nEuritmie: Elisabeth Appenrodt\, Marleen Matthijsen\, Irene Pouwelse \nSpraak/Verteller: Marjo van der Himst\, Frank Oele \nMuziek: Ephraim van IJzerlooij \nBelichting: Collin Withaar \n  \n 
URL:https://ephraimvanijzerlooij.nl/event/paasviering-de-ik-ben-woorden/
LOCATION:Elisabeth Vreedehuis\, Riouwstraat 1\, Den Haag\, 2585 GP\, Nederland
ORGANIZER;CN="Irene Pouwelse":MAILTO:irenefas@live.nl
END:VEVENT
BEGIN:VEVENT
DTSTART;TZID=Europe/Amsterdam:20240329T110000
DTEND;TZID=Europe/Amsterdam:20240329T110000
DTSTAMP:20260425T140921
CREATED:20240121T213801Z
LAST-MODIFIED:20240208T200926Z
UID:545-1711710000-1711710000@ephraimvanijzerlooij.nl
SUMMARY:Mattäus Passion
DESCRIPTION:Met Markant Vokaal en Concerto Brabant o.l.v. Bernard Touwen.
URL:https://ephraimvanijzerlooij.nl/event/mattaus-passion-2/
LOCATION:Catharijnekerk Heusden\, Burchtstraat 1\, Heusden
ATTACH;FMTTYPE=image/png:https://ephraimvanijzerlooij.nl/wp-content/uploads/2024/01/Orkest.png
END:VEVENT
BEGIN:VEVENT
DTSTART;TZID=Europe/Amsterdam:20240328T190000
DTEND;TZID=Europe/Amsterdam:20240328T190000
DTSTAMP:20260425T140921
CREATED:20240121T213620Z
LAST-MODIFIED:20240202T094920Z
UID:540-1711652400-1711652400@ephraimvanijzerlooij.nl
SUMMARY:Mattäus Passion
DESCRIPTION:Met Markant Vokaal en Concerto Brabant o.l.v. Bernard Touwen.
URL:https://ephraimvanijzerlooij.nl/event/mattaus-passion/
LOCATION:Catharijnekerk Heusden\, Burchtstraat 1\, Heusden
ATTACH;FMTTYPE=image/png:https://ephraimvanijzerlooij.nl/wp-content/uploads/2024/01/Orkest.png
END:VEVENT
BEGIN:VEVENT
DTSTART;TZID=Europe/Amsterdam:20240310T160000
DTEND;TZID=Europe/Amsterdam:20240310T160000
DTSTAMP:20260425T140921
CREATED:20240121T213232Z
LAST-MODIFIED:20240208T200844Z
UID:537-1710086400-1710086400@ephraimvanijzerlooij.nl
SUMMARY:Passie concert: Mater Dolorosa
DESCRIPTION:Het menselijk lijden als universeel thema wordt in de passietijd door de kerk extra belicht door stil te staan bij het lijden en sterven van Christus. Een andere kant van het verhaal – die van de moeder die haar kind verliest – wordt verteld in het Stabat Mater. Dat is de invalshoek die het Brabants Kamerkoor o.l.v. Dorien Schouten heeft gekozen voor een alternatief passieconcert\, een prachtig en troostrijk programma met stukken van 20e-eeuwse componisten.
URL:https://ephraimvanijzerlooij.nl/event/passie-concert-2/
LOCATION:Grote Kerk Den Bosch\, Kerkstraat 20\, 's-Hertogenbosch
ATTACH;FMTTYPE=image/png:https://ephraimvanijzerlooij.nl/wp-content/uploads/2024/01/Orkest.png
END:VEVENT
BEGIN:VEVENT
DTSTART;TZID=Europe/Amsterdam:20240309T200000
DTEND;TZID=Europe/Amsterdam:20240309T200000
DTSTAMP:20260425T140921
CREATED:20240121T213004Z
LAST-MODIFIED:20240205T093230Z
UID:533-1710014400-1710014400@ephraimvanijzerlooij.nl
SUMMARY:Passie concert: Mater Dolorosa
DESCRIPTION:Het menselijk lijden als universeel thema wordt in de passietijd door de kerk extra belicht door stil te staan bij het lijden en sterven van Christus. Een andere kant van het verhaal – die van de moeder die haar kind verliest – wordt verteld in het Stabat Mater. Dat is de invalshoek die het Brabants Kamerkoor o.l.v. Dorien Schouten heeft gekozen voor een alternatief passieconcert\, een prachtig en troostrijk programma met stukken van 20e-eeuwse componisten.
URL:https://ephraimvanijzerlooij.nl/event/passie-concert/
LOCATION:Het Cenakel\, Cenakel\, Tilburg
ATTACH;FMTTYPE=image/png:https://ephraimvanijzerlooij.nl/wp-content/uploads/2024/01/Orkest.png
END:VEVENT
BEGIN:VEVENT
DTSTART;TZID=Europe/Amsterdam:20240210T150000
DTEND;TZID=Europe/Amsterdam:20240210T150000
DTSTAMP:20260425T140921
CREATED:20240121T212548Z
LAST-MODIFIED:20240202T095044Z
UID:530-1707577200-1707577200@ephraimvanijzerlooij.nl
SUMMARY:Schubertiade
DESCRIPTION:
URL:https://ephraimvanijzerlooij.nl/event/schubertiade/
LOCATION:Overkempe\, Koekoeksweg 100\, Olst
ATTACH;FMTTYPE=image/png:https://ephraimvanijzerlooij.nl/wp-content/uploads/2024/01/Cello-solo.png
END:VEVENT
BEGIN:VEVENT
DTSTART;TZID=Europe/Amsterdam:20240204T160000
DTEND;TZID=Europe/Amsterdam:20240204T160000
DTSTAMP:20260425T140921
CREATED:20240121T212413Z
LAST-MODIFIED:20240202T095102Z
UID:527-1707062400-1707062400@ephraimvanijzerlooij.nl
SUMMARY:Bilthoven\, Cello recital
DESCRIPTION:
URL:https://ephraimvanijzerlooij.nl/event/bilthoven-cello-recital/
LOCATION:Leendert Mees Huis\, Professor Bronkhorstlaan 6\, Bilthoven
ATTACH;FMTTYPE=image/png:https://ephraimvanijzerlooij.nl/wp-content/uploads/2024/01/Cello-solo.png
END:VEVENT
BEGIN:VEVENT
DTSTART;TZID=Europe/Amsterdam:20240131T073000
DTEND;TZID=Europe/Amsterdam:20240131T073000
DTSTAMP:20260425T140921
CREATED:20240121T212218Z
LAST-MODIFIED:20240202T095122Z
UID:524-1706686200-1706686200@ephraimvanijzerlooij.nl
SUMMARY:Emmen\, Cello recital
DESCRIPTION:
URL:https://ephraimvanijzerlooij.nl/event/emmen-cello-recital/
LOCATION:Emmen\, Emmen
ATTACH;FMTTYPE=image/png:https://ephraimvanijzerlooij.nl/wp-content/uploads/2024/01/Cello-solo.png
END:VEVENT
BEGIN:VEVENT
DTSTART;TZID=Europe/Amsterdam:20240130T200000
DTEND;TZID=Europe/Amsterdam:20240130T200000
DTSTAMP:20260425T140921
CREATED:20240121T200537Z
LAST-MODIFIED:20240424T064228Z
UID:474-1706644800-1706644800@ephraimvanijzerlooij.nl
SUMMARY:Chiara Trio
DESCRIPTION:Met trio’s van Schubert en Arensky.
URL:https://ephraimvanijzerlooij.nl/event/chiara-trio/
LOCATION:Het Seminarie\, Muurhuizen 102\, Amersfoort
ATTACH;FMTTYPE=image/jpeg:https://ephraimvanijzerlooij.nl/wp-content/uploads/2024/04/pexels-pixabay-210854.jpg
END:VEVENT
BEGIN:VEVENT
DTSTART;TZID=Europe/Amsterdam:20240114T200000
DTEND;TZID=Europe/Amsterdam:20240121T214700
DTSTAMP:20260425T140921
CREATED:20240121T214718Z
LAST-MODIFIED:20240202T095424Z
UID:556-1705262400-1705873620@ephraimvanijzerlooij.nl
SUMMARY:Droomlied Olav Asteston
DESCRIPTION:
URL:https://ephraimvanijzerlooij.nl/event/droomlied-olav-asteston/
LOCATION:Christoforuskerk\, Veldweg 1\, Bussum
ATTACH;FMTTYPE=image/png:https://ephraimvanijzerlooij.nl/wp-content/uploads/2024/01/Cello-solo.png
END:VEVENT
END:VCALENDAR