BEGIN:VCALENDAR
VERSION:2.0
PRODID:-//Ephraim van IJzerlooij - ECPv6.15.17//NONSGML v1.0//EN
CALSCALE:GREGORIAN
METHOD:PUBLISH
X-WR-CALNAME:Ephraim van IJzerlooij
X-ORIGINAL-URL:https://ephraimvanijzerlooij.nl
X-WR-CALDESC:Events for Ephraim van IJzerlooij
REFRESH-INTERVAL;VALUE=DURATION:PT1H
X-Robots-Tag:noindex
X-PUBLISHED-TTL:PT1H
BEGIN:VTIMEZONE
TZID:Europe/Amsterdam
BEGIN:DAYLIGHT
TZOFFSETFROM:+0100
TZOFFSETTO:+0200
TZNAME:CEST
DTSTART:20230326T010000
END:DAYLIGHT
BEGIN:STANDARD
TZOFFSETFROM:+0200
TZOFFSETTO:+0100
TZNAME:CET
DTSTART:20231029T010000
END:STANDARD
BEGIN:DAYLIGHT
TZOFFSETFROM:+0100
TZOFFSETTO:+0200
TZNAME:CEST
DTSTART:20240331T010000
END:DAYLIGHT
BEGIN:STANDARD
TZOFFSETFROM:+0200
TZOFFSETTO:+0100
TZNAME:CET
DTSTART:20241027T010000
END:STANDARD
BEGIN:DAYLIGHT
TZOFFSETFROM:+0100
TZOFFSETTO:+0200
TZNAME:CEST
DTSTART:20250330T010000
END:DAYLIGHT
BEGIN:STANDARD
TZOFFSETFROM:+0200
TZOFFSETTO:+0100
TZNAME:CET
DTSTART:20251026T010000
END:STANDARD
BEGIN:DAYLIGHT
TZOFFSETFROM:+0100
TZOFFSETTO:+0200
TZNAME:CEST
DTSTART:20260329T010000
END:DAYLIGHT
BEGIN:STANDARD
TZOFFSETFROM:+0200
TZOFFSETTO:+0100
TZNAME:CET
DTSTART:20261025T010000
END:STANDARD
BEGIN:DAYLIGHT
TZOFFSETFROM:+0100
TZOFFSETTO:+0200
TZNAME:CEST
DTSTART:20270328T010000
END:DAYLIGHT
BEGIN:STANDARD
TZOFFSETFROM:+0200
TZOFFSETTO:+0100
TZNAME:CET
DTSTART:20271031T010000
END:STANDARD
END:VTIMEZONE
BEGIN:VEVENT
DTSTART;TZID=Europe/Amsterdam:20260402T190000
DTEND;TZID=Europe/Amsterdam:20260402T223000
DTSTAMP:20260424T144550
CREATED:20260311T082630Z
LAST-MODIFIED:20260311T082635Z
UID:2824-1775156400-1775169000@ephraimvanijzerlooij.nl
SUMMARY:Matthäus Passion
DESCRIPTION:Solisten\n\n\n\n\nPablo Gregorian – Evangelist\nHuub Claessens – Christus\nLenneke Ruiten – sopraan\nDeirdre Angenent – mezzosopraan\nSander de Jong – tenor\nRaoul Steffani – bariton \n\n\n\n\nKoren\n\n\n\n\nVocaal Ensemble Markant\nMaasstedelijk Kinderkoor \n\n\n\n\nMuzikale begeleiding\n\n\n\n\nKamerorkest Concerto Brabant\nRalph Rousseau (viola da gamba) \n\n\n\n\nDirigent\n\n\n\n\nBernhard Touwen
URL:https://ephraimvanijzerlooij.nl/event/matthaus-passion-2/
LOCATION:Catharijnekerk Heusden\, Burchtstraat 1\, Heusden
ORGANIZER;CN="Heusdenvestingklassiek":MAILTO:info@heusdenvestingklassiek.nl
END:VEVENT
BEGIN:VEVENT
DTSTART;TZID=Europe/Amsterdam:20260327T133000
DTEND;TZID=Europe/Amsterdam:20260327T170000
DTSTAMP:20260424T144550
CREATED:20260322T201358Z
LAST-MODIFIED:20260322T201409Z
UID:2828-1774618200-1774630800@ephraimvanijzerlooij.nl
SUMMARY:Stemmen die verbinden
DESCRIPTION:Stemmen die verbinden is een bijzondere en inspirerende bijeenkomst in Het Koorenhuis\, ter gelegenheid van de Internationale Dag tegen Racisme en Discriminatie. Het wordt een middag vol interessante ontmoetingen en verhalen die écht raken. Hagenaars met verschillende achtergronden vertellen hun persoonlijke verhaal over racisme en discriminatie. Haagse kunstenaars brengen deze verhalen tot leven. Daarnaast is er ook een inspirerend plenair programma met onder andere twee powertalks en een interactief gesprek.
URL:https://ephraimvanijzerlooij.nl/event/stemmen-die-verbinden/
LOCATION:Het Koorenhuis\, Prinsegracht 27\, Den Haag\, Zuid-Holland\, 2512 EW\, Netherlands
ORGANIZER;CN="LUSTR":MAILTO:Annemarie.goedvolk@lustr.nl
END:VEVENT
BEGIN:VEVENT
DTSTART;TZID=Europe/Amsterdam:20260321T200000
DTEND;TZID=Europe/Amsterdam:20260321T213000
DTSTAMP:20260424T144550
CREATED:20260306T111938Z
LAST-MODIFIED:20260306T111944Z
UID:2815-1774123200-1774128600@ephraimvanijzerlooij.nl
SUMMARY:PassieConcert 'The Hour Between'
DESCRIPTION:Passieconcert \nCantus Kamerkoor\nOrion strijkorkest\n​Kindsingers  \nolv Sietse van Wijgerden \nProgramma:\nMorales: Parce Mihi Domine\nRubbra: Tristis est anima mea\nByrd: Kyrie\, 5 stemmige mis        \nPergolesi: Stabat mater (deel 1/solisten)\nPanufnik: Kyrie after Byrd\nSietse van Wijgerden: Passio\, The Hour Between\, 5 delen met strijkorkest\nBach: Gute nacht\, o wesen (uit Jesu meine Freude)\nCecilia McDowall: Standing as I Do Before God\nWood: Hail gladdening light\nBach-intermezzi-leden strijkorkest\n​
URL:https://ephraimvanijzerlooij.nl/event/passieconcert-the-hour-between/
LOCATION:Grote Kerk Vianen\, Korte Kerkstraat 1\, Vianen\, Utrecht\, 4132 BJ\, Netherlands
ORGANIZER;CN="Sietse van Wijgerden":MAILTO:Sietse.wijgerden@gmail.com
END:VEVENT
BEGIN:VEVENT
DTSTART;TZID=Europe/Amsterdam:20260315T160000
DTEND;TZID=Europe/Amsterdam:20260315T170000
DTSTAMP:20260424T144550
CREATED:20260306T112935Z
LAST-MODIFIED:20260306T112939Z
UID:2820-1773590400-1773594000@ephraimvanijzerlooij.nl
SUMMARY:Huiskamerconcert CHIaRA Pianotrio
DESCRIPTION:Romantisch programma met werken van o.a. J.S. Bach\,  Clara Schumann\, Johannes Brahms\, Arvo Pärt\, Edward Elgar\, Piazzolla.
URL:https://ephraimvanijzerlooij.nl/event/huiskamerconcert-chiara-pianotrio/
LOCATION:De Dennenweg Sessies\, Dennenweg 2\, Soest\, Utrecht\, 3768 BR\, Netherlands
ORGANIZER;CN="Arti Vocaal":MAILTO:Info@artivocaal.com
END:VEVENT
BEGIN:VEVENT
DTSTART;TZID=Europe/Amsterdam:20260221T153000
DTEND;TZID=Europe/Amsterdam:20260221T163000
DTSTAMP:20260424T144550
CREATED:20251218T120243Z
LAST-MODIFIED:20251218T152910Z
UID:2787-1771687800-1771691400@ephraimvanijzerlooij.nl
SUMMARY:Concert Duo van IJzerlooij-De Boer
DESCRIPTION:Het Duo Van IJzerlooij-De Boer speelt al jaren samen en geeft regelmatig concerten.\nZij spelen een licht klassiek programma met werken van J.S. Bach\, Robert Schumann\, Felix Mendelssohn\,\nGabriel Fauré\, Sergei Rachmaninov en Daniel van Goens. \n 
URL:https://ephraimvanijzerlooij.nl/event/concert-duo-van-ijzerlooij-de-boer/
LOCATION:Walkartkerk\, Kerkweg 23\, Zeist\, Utrecht\, 3701HD\, Netherlands
END:VEVENT
BEGIN:VEVENT
DTSTART;TZID=Europe/Amsterdam:20260130T201500
DTEND;TZID=Europe/Amsterdam:20260130T220000
DTSTAMP:20260424T144550
CREATED:20251218T114559Z
LAST-MODIFIED:20251218T114559Z
UID:2785-1769804100-1769810400@ephraimvanijzerlooij.nl
SUMMARY:Verjaardagsconcert Oranjekerk
DESCRIPTION:Een feestelijk verjaardagsconcert vol met herkenbare aria’s en liederen van o.a. Granados\, Massenet. \nUitgevoerd door Barbara Schilstra\, zang\, Ephraim van IJzerlooij\, cello en Paul de Boer\, piano.
URL:https://ephraimvanijzerlooij.nl/event/verjaardagsconcert-oranjekerk/
LOCATION:Oranjekerk\, 2e van der Helststraat 1-3\, Amsterdam\, Noord-Holland\, 1073AE\, Nederland
END:VEVENT
BEGIN:VEVENT
DTSTART;TZID=Europe/Amsterdam:20260103T193000
DTEND;TZID=Europe/Amsterdam:20260103T213000
DTSTAMP:20260424T144550
CREATED:20251218T095949Z
LAST-MODIFIED:20251218T095949Z
UID:2781-1767468600-1767475800@ephraimvanijzerlooij.nl
SUMMARY:Elemental Motions
DESCRIPTION:Elemental Motions \nLive Music\, Dance\, Spoken Word \neen unieke avond vol met live muziek\, dans en spoken word\, waarin je wordt ondergedompeld in de kracht van muziek\, natuur en verbeelding.\nhet programma brengt een afwisselende mix van instrumentale composities\, choreografie en poëtische teksten. \nDansers van Rani Art Dance Company en bijzondere muzikale gast artiesten vullen het Trio aan. \n 
URL:https://ephraimvanijzerlooij.nl/event/elemental-motions/
LOCATION:Theater de Speeldoos\, Rembrandtlaan 35\, Baarn\, Utrecht\, 3741 TA
END:VEVENT
BEGIN:VEVENT
DTSTART;TZID=Europe/Amsterdam:20251102T140000
DTEND;TZID=Europe/Amsterdam:20251102T150000
DTSTAMP:20260424T144550
CREATED:20251012T111505Z
LAST-MODIFIED:20251012T111640Z
UID:2776-1762092000-1762095600@ephraimvanijzerlooij.nl
SUMMARY:Concert Requiem Matthew Coleridge
DESCRIPTION:Het Requiem van Matthew Coleridge is uitgegroeid tot een van de populairste nieuwe koorwerken. \nDit diep ontroerende werk\, door wijlen Sir Neville Marriner omschreven als “een waardevolle aanvulling op het koorrepertoire van de 21e eeuw”\, en de prachtige melodieën hebben het tot een grote favoriet gemaakt.
URL:https://ephraimvanijzerlooij.nl/event/concert-requiem-matthew-coleridge/
LOCATION:Sint-Jansbasiliek\, Laren\, Brink 33\, Laren\, Noord-Holland\, 1251 KT\, Netherlands
ORGANIZER;CN="Laren in beeld":MAILTO:info@handsonadvies.nl
END:VEVENT
BEGIN:VEVENT
DTSTART;TZID=Europe/Amsterdam:20251101T201500
DTEND;TZID=Europe/Amsterdam:20251101T220000
DTSTAMP:20260424T144550
CREATED:20251012T105206Z
LAST-MODIFIED:20251012T105206Z
UID:2771-1762028100-1762034400@ephraimvanijzerlooij.nl
SUMMARY:Requiem-John Rutter
DESCRIPTION:Requiem-John Rutter \nCapella Dorestad o.l.v. Rienk Bakker \nm.m.v. \nMarjon Strijk\, sopraan \nElla Botter\, hobo \nAnna Zeijlemaker\, fluit \nDoriene Marselje\, harp \nEphraim van IJzerlooij\, cello \nOlivier Dolk en Joost Akkermans\, slagwerk \nPim Schipper\, orgel
URL:https://ephraimvanijzerlooij.nl/event/requiem-john-rutter/
LOCATION:Grote Kerk Wijk bij Duurstede\, Markt 26\, Wijk bij Duurstede\, Utrecht\, 3961 BC\, Netherlands
END:VEVENT
BEGIN:VEVENT
DTSTART;TZID=Europe/Amsterdam:20250916T201500
DTEND;TZID=Europe/Amsterdam:20250916T213000
DTSTAMP:20260424T144550
CREATED:20250728T124143Z
LAST-MODIFIED:20250728T124159Z
UID:2765-1758053700-1758058200@ephraimvanijzerlooij.nl
SUMMARY:Duo Con Fuoco Elsrijk Concert
DESCRIPTION:Het Duo Con Fuoco bestaande uit Bob van der Ent\, viool en Ephraim van IJzerlooij\, cello spelen naast muziek van J.S. Bach\, werken van de Nederlandse componiste Eva Mees (1925-2011) en de nog levende Nederlandse componist Daan Manneke.
URL:https://ephraimvanijzerlooij.nl/event/duo-con-fuoco-elsrijk-concert/
LOCATION:Huis Elsrijk\, Graaf Aelbrechtlaan 140\, Amstelveen\, Noord-Holland\, 1181 SZ\, Netherlands
ORGANIZER;CN="stichting Elsrijk Concerten":MAILTO:elsrijkconcerten@stadsdorpelsrijk.nl
END:VEVENT
BEGIN:VEVENT
DTSTART;TZID=Europe/Amsterdam:20250829T140000
DTEND;TZID=Europe/Amsterdam:20250829T150000
DTSTAMP:20260424T144550
CREATED:20250728T092516Z
LAST-MODIFIED:20250728T092520Z
UID:2759-1756476000-1756479600@ephraimvanijzerlooij.nl
SUMMARY:Duo Con Fuoco-Prelude
DESCRIPTION:Duo Con Fuoco met Bob van der Ent (viool) en Ephraim van IJzerlooij (cello) brengt een afwisselend en toegankelijk programma. Zoals in al hun concerten klinkt er muziek van J.S. Bach\, dit keer de beroemde prelude uit de eerste cellosuite in G majeur. Daarnaast zetten Bob en Ephraim zich in voor Nederlandse componisten die onterecht in de vergetelheid zijn geraakt\, zoals Eva Mees Christeller (1925-2011). En er klinkt sfeervolle muziek van Reinhold Glière en als afsluiting de beroemde Passacaglia van Händel/Halvorsen.
URL:https://ephraimvanijzerlooij.nl/event/duo-con-fuoco-prelude/
LOCATION:Goede Rede\, Kerkgracht 60\, Almere\, Flevoland\, 1354 AM\, Netherlands
END:VEVENT
BEGIN:VEVENT
DTSTART;TZID=Europe/Amsterdam:20250413T150000
DTEND;TZID=Europe/Amsterdam:20250413T180000
DTSTAMP:20260424T144550
CREATED:20250402T140023Z
LAST-MODIFIED:20250402T180832Z
UID:2747-1744556400-1744567200@ephraimvanijzerlooij.nl
SUMMARY:Matthäus Passion
DESCRIPTION:
URL:https://ephraimvanijzerlooij.nl/event/matthaus-passion/
LOCATION:Sint-Jansbasiliek\, Laren\, Brink 33\, Laren\, Noord-Holland\, 1251 KT\, Netherlands
ORGANIZER;CN="https%3A//www.larenklassiek.nl/":MAILTO:larenklassiek@gmail.com
END:VEVENT
BEGIN:VEVENT
DTSTART;TZID=Europe/Amsterdam:20250405T160000
DTEND;TZID=Europe/Amsterdam:20250405T170000
DTSTAMP:20260424T144550
CREATED:20250402T112042Z
LAST-MODIFIED:20250402T112052Z
UID:2744-1743868800-1743872400@ephraimvanijzerlooij.nl
SUMMARY:Cherchez La Femme
DESCRIPTION:Cherchez la femme \nde aandacht voor vrouwelijke componisten maakt de laatste tijd een inhaalslag.\nDe huidige belangstelling brengt vergeten composities en opnieuw ontdekte talenten aan het licht.Een programma van tegenstellingen van oud naar nieuw\, van kamermuziek tot de prikkelende ritmes van Tabakova en het betoverende impressionisme van Lilli Boulanger.
URL:https://ephraimvanijzerlooij.nl/event/cherchez-la-femme/
LOCATION:Oranjekerk\, 2e van der Helststraat 1-3\, Amsterdam\, Noord-Holland\, 1073AE\, Nederland
END:VEVENT
BEGIN:VEVENT
DTSTART;TZID=Europe/Amsterdam:20250329T200000
DTEND;TZID=Europe/Amsterdam:20250329T213000
DTSTAMP:20260424T144550
CREATED:20250131T194552Z
LAST-MODIFIED:20250131T200305Z
UID:2734-1743278400-1743283800@ephraimvanijzerlooij.nl
SUMMARY:Oratorium Annelies
DESCRIPTION:James Whitbourn- Annelies \nHet oratorium Annelies is gebaseerd op teksten uit het dagboek van Anne Frank. \nSt. Joris Kamerkoor o.l.v. Wouter Verhage \nm.m.v. \n  \nNoëlle Drost\, sopraan \nBob van der Ent\, viool \nEphraim van IJzerlooij\, cello \nSabrina Forte\, piano \n  \n  \n  \n  \n 
URL:https://ephraimvanijzerlooij.nl/event/oratorium-annelies/
LOCATION:Xaveriuskerk\, Amersfoort\, Het Zand 29\, Amersfoort\, Utrecht\, 3811 GB\, Netherlands
ORGANIZER;CN="St. Joris Kamerkoor":MAILTO:info@stjoriskamerkoor.nl
END:VEVENT
BEGIN:VEVENT
DTSTART;TZID=Europe/Amsterdam:20250316T110000
DTEND;TZID=Europe/Amsterdam:20250316T120000
DTSTAMP:20260424T144550
CREATED:20250125T150539Z
LAST-MODIFIED:20250125T150539Z
UID:2731-1742122800-1742126400@ephraimvanijzerlooij.nl
SUMMARY:Nescio Lezing Marlous Lazal en het CHIaRA Trio
DESCRIPTION:Marlous zal spreken over het jaarthema ‘loslaten’ vanuit haar ervaring als radiomaker voor de Boeddhistische Omroep\, en de inspiratie van haar gasten als gestalt therapeut Nel in’t Veld\, een verblijf in Plum Village\, het meditatiecentrum van Thich Nath Hanh in Frankrijk\, het mystieke pad van Johannes van het Kruis\, haar liefde voor Leonard Cohen en de nuchtere wijsheid van René Gude. Met het Chiara Trio zingt ze het ontroerende lied dat ze maakte over deze plek: Kerkje aan de dijk.
URL:https://ephraimvanijzerlooij.nl/event/nescio-lezing-marlous-lazal-en-het-chiara-trio/
LOCATION:Zuid-Holland
END:VEVENT
BEGIN:VEVENT
DTSTART;TZID=Europe/Amsterdam:20250216T160000
DTEND;TZID=Europe/Amsterdam:20250216T170000
DTSTAMP:20260424T144550
CREATED:20250125T144131Z
LAST-MODIFIED:20250125T144131Z
UID:2728-1739721600-1739725200@ephraimvanijzerlooij.nl
SUMMARY:Ephraim en Paul spelen in Het Muzieklokaal
DESCRIPTION:Een zondag middag bij Het Muzieklokaal betekent klassieke muziek! Geniet van de prachtige klanken op piano en cello verzorgd door Ephraim en Paul
URL:https://ephraimvanijzerlooij.nl/event/ephraim-en-paul-spelen-in-het-muzieklokaal/
LOCATION:Bemuurde Weerd Oostzijde 13\, Bemuurde Weerd Oostzijde 13\, Utrecht\, Utrecht\, 3514 AN\, Netherlands
END:VEVENT
BEGIN:VEVENT
DTSTART;TZID=Europe/Amsterdam:20250112T120000
DTEND;TZID=Europe/Amsterdam:20250112T130000
DTSTAMP:20260424T144550
CREATED:20250102T213029Z
LAST-MODIFIED:20250102T213029Z
UID:2723-1736683200-1736686800@ephraimvanijzerlooij.nl
SUMMARY:Lunchconcert DuoConFuoco
DESCRIPTION:Vurig duo met poëtisch spel in Kruiskerk\nZondag 12 januari zal het DuoConFuoco in de Kruiskerk\, Van der Veerelaan 30a\, een optreden in de serie Kruiskerk Klassiek verzorgen. Het concert begint om 12.00 uur\, duurt een uur en iedereen is welkom vanaf 11.30 uur. De toegang is vrij\, maar een gift wordt zeer op prijs gesteld om concerten met klassieke muziek op hoog niveau in Amstelveen te kunnen blijven organiseren. \nHet strijkerstweetal DuoConFuoco bestaat uit de bekende Amstelveense violist Bob van der Ent\, die al enkele malen in de Kruiskerk te horen was\, en de gelauwerde cellist Ephraim van IJzerlooij\, die voor het eerst daar te beluisteren zal zijn. Zij kennen elkaar al 25 jaar\, toen beiden in hun categorie het Prinses Christina Concours wonnen. Sinds enkele jaren vormen ze samen het DuoConFuoco. In al hun concerten spelen ze werk van Johann Sebastian Bach\, maar ook werken van bekende en onbekende Nederlandse componisten staat vaak op hun lessenaars. Ook in dit Kruiskerkconcert zal dat het geval zijn. De bekende Nederlandse componist Daan Manneke bewerkte speciaal voor hen enkele van zijn composities. Ook te horen zal zijn een Sonatine voor viool en cello van Eva Mees.
URL:https://ephraimvanijzerlooij.nl/event/lunchconcert-duoconfuoco/
LOCATION:Kruiskerk\, Amstelveen\, Van der Veerelaan 30a\, Amstelveen\, Noord-Holland\, 1181RA\, Netherlands
ORGANIZER;CN="Protestantse wijkgemeente Kruiskerk":MAILTO:contact@kruiskerk-amstelveen.nl
END:VEVENT
BEGIN:VEVENT
DTSTART;TZID=Europe/Amsterdam:20241201T150000
DTEND;TZID=Europe/Amsterdam:20241201T170000
DTSTAMP:20260424T144550
CREATED:20241008T213909Z
LAST-MODIFIED:20241008T214105Z
UID:2681-1733065200-1733072400@ephraimvanijzerlooij.nl
SUMMARY:Adventsconcert: Bach\, Mendelssohn & Beethoven
DESCRIPTION:J.S. Bach componeerde zijn koraalcantate “Nun komm\, der Heiden Heiland” BWV 62 voor de eerste adventszondag van het jaar 1724. Met Bach gaan we vol vertrouwen op weg naar kerst. \nFelix Mendelssohn- “ Verleih uns Frieden” is een gebed om vrede op tekst van Luther. \nLudwig van Beethoven- Mis in C \n  \n 
URL:https://ephraimvanijzerlooij.nl/event/adventsconcert-bach-mendelssohn-beethoven/
LOCATION:PHIL Haarlem\, Lange Begijnenstraat 11\, Haarlem\, 2011 HH\, Netherlands
END:VEVENT
BEGIN:VEVENT
DTSTART;TZID=Europe/Amsterdam:20241124T150000
DTEND;TZID=Europe/Amsterdam:20241124T170000
DTSTAMP:20260424T144550
CREATED:20241110T212649Z
LAST-MODIFIED:20241110T212653Z
UID:2687-1732460400-1732467600@ephraimvanijzerlooij.nl
SUMMARY:Najaarsconcert
DESCRIPTION:Symfonieorkest Haerlem brengt twee muzikale vertellingen en het briljante vioolconcert van Johannes Brahms met violiste Emma Roijackers.
URL:https://ephraimvanijzerlooij.nl/event/najaarsconcert/
LOCATION:PHIL Haarlem\, Lange Begijnenstraat 11\, Haarlem\, 2011 HH\, Netherlands
END:VEVENT
BEGIN:VEVENT
DTSTART;TZID=Europe/Amsterdam:20241006T130000
DTEND;TZID=Europe/Amsterdam:20241006T143000
DTSTAMP:20260424T144550
CREATED:20240905T212914Z
LAST-MODIFIED:20240924T202938Z
UID:2672-1728219600-1728225000@ephraimvanijzerlooij.nl
SUMMARY:DuoConFuoco Concert in Cothen
DESCRIPTION:
URL:https://ephraimvanijzerlooij.nl/event/duoconfuoco-concert-in-cothen/
LOCATION:Agneskerk\, De Brink\, Cothen\, Utrecht\, Nederland
END:VEVENT
BEGIN:VEVENT
DTSTART;TZID=Europe/Amsterdam:20241004T193000
DTEND;TZID=Europe/Amsterdam:20241004T213000
DTSTAMP:20260424T144550
CREATED:20240821T194059Z
LAST-MODIFIED:20240821T194753Z
UID:2664-1728070200-1728077400@ephraimvanijzerlooij.nl
SUMMARY:Concert Muzikale Verhalen
DESCRIPTION:Ephraim van IJzerlooij speelt met pianist Imke Jelle van Dam in de Theodorakapel in Zwolle. Het programma Muzikale Verhalen bestaat uit een mix van eigen composities aangevuld met werken uit de romantiek van o.m. Fauré\, Debussy\, Grieg\, Brahms en Rachmaninov.
URL:https://ephraimvanijzerlooij.nl/event/concert-muzikale-verhalen/
LOCATION:Theodora Kapel\, Theodorahof 20\, Zwolle\, Overijssel\, 8011 AA\, Nederland
END:VEVENT
BEGIN:VEVENT
DTSTART;TZID=Europe/Amsterdam:20240922T150000
DTEND;TZID=Europe/Amsterdam:20240922T170000
DTSTAMP:20260424T144550
CREATED:20240730T085809Z
LAST-MODIFIED:20240730T085812Z
UID:2656-1727017200-1727024400@ephraimvanijzerlooij.nl
SUMMARY:Concerto Brabant SOLO
DESCRIPTION:
URL:https://ephraimvanijzerlooij.nl/event/concerto-brabant-solo/
LOCATION:Grote Kerk Den Bosch\, Kerkstraat 20\, 's-Hertogenbosch
END:VEVENT
BEGIN:VEVENT
DTSTART;TZID=Europe/Amsterdam:20240608T200000
DTEND;TZID=Europe/Amsterdam:20240608T220000
DTSTAMP:20260424T144550
CREATED:20240422T192856Z
LAST-MODIFIED:20240424T063630Z
UID:2642-1717876800-1717884000@ephraimvanijzerlooij.nl
SUMMARY:Jubileumconcert
DESCRIPTION:MY SPIRIT SANG ALL DAY \nGedurende 35 jaar heeft Kamerkoor Tegenlicht onder de inspirerende leiding van Paul de Boer vooral muziek uit de (een-en-) twintigste eeuw uitgevoerd met hier en daar een uitstapje naar Renaissance\, vroege Barok en Romantiek. Door Pauls muzikale werk in de Baltische staten in de jaren 80\, kreeg het repertoire van Tegenlicht een sterk Baltisch en Oost-Europees accent. Naast eigen composities van Paul beleefden ook composities van hedendaagse componisten hun wereldpremière bij Tegenlichtconcerten.  In dit feestelijke jubileumconcert zullen we een aantal favorieten uit de Tegenlichtgeschiedenis laten horen en – volgens traditie- twee splinternieuwe composities uit de  eigen gelederen.
URL:https://ephraimvanijzerlooij.nl/event/jubileumconcert/
LOCATION:Oranjekerk\, 2e van der Helststraat 1-3\, Amsterdam\, Noord-Holland\, 1073AE\, Nederland
ATTACH;FMTTYPE=image/png:https://ephraimvanijzerlooij.nl/wp-content/uploads/2024/01/Cello-solo.png
END:VEVENT
BEGIN:VEVENT
DTSTART;TZID=Europe/Amsterdam:20240601T203000
DTEND;TZID=Europe/Amsterdam:20240601T203000
DTSTAMP:20260424T144550
CREATED:20240206T104038Z
LAST-MODIFIED:20240424T063653Z
UID:1736-1717273800-1717273800@ephraimvanijzerlooij.nl
SUMMARY:Vlieland: Concert bij Kaarslicht Chiara Trio
DESCRIPTION:Muziek van Mathilde van Wantenaar (winnares Buma Classic Award)\, Fr.Schubert\, S.Rachmaninov\, R.Glière en Astor Piazzolla.
URL:https://ephraimvanijzerlooij.nl/event/vlieland-concert-bij-kaarslicht-chiara-trio/
LOCATION:Nicolaaskerk\, Vlieland\, Kerkplein 7\, Oost-Vlieland\, 8899AW
ATTACH;FMTTYPE=image/jpeg:https://ephraimvanijzerlooij.nl/wp-content/uploads/2024/02/trio2.jpg
END:VEVENT
BEGIN:VEVENT
DTSTART;TZID=Europe/Amsterdam:20240524T200000
DTEND;TZID=Europe/Amsterdam:20240524T220000
DTSTAMP:20260424T144550
CREATED:20240519T214552Z
LAST-MODIFIED:20240519T214610Z
UID:2649-1716580800-1716588000@ephraimvanijzerlooij.nl
SUMMARY:Concert bij Kaarslicht in Vianen
DESCRIPTION:
URL:https://ephraimvanijzerlooij.nl/event/concert-bij-kaarslicht-in-vianen/
LOCATION:lekpoort\, Voorstraat 2\, Vianen\, Utrecht\, 4132AR\, Nederland
END:VEVENT
BEGIN:VEVENT
DTSTART;TZID=Europe/Amsterdam:20240512T150000
DTEND;TZID=Europe/Amsterdam:20240512T163000
DTSTAMP:20260424T144550
CREATED:20240406T213042Z
LAST-MODIFIED:20240424T064050Z
UID:2635-1715526000-1715531400@ephraimvanijzerlooij.nl
SUMMARY:Moederdagconcert
DESCRIPTION:Moederdag Concert Zeist \nDoor het Van IJzerlooij Ensemble \nChristoph van IJzerlooij\, viool & altviool \nEphraim & Immanuel van IJzerlooij\, cello \nDanièl van der Wal\, zang \nSabrina Forte\, piano
URL:https://ephraimvanijzerlooij.nl/event/moederdagconcert/
LOCATION:Huize Nicolai\, Sumtralaan 28\, Zeist\, Utrecht\, 3705XL
ATTACH;FMTTYPE=image/jpeg:https://ephraimvanijzerlooij.nl/wp-content/uploads/2024/04/pexels-pixabay-210854.jpg
END:VEVENT
BEGIN:VEVENT
DTSTART;TZID=Europe/Amsterdam:20240504T204500
DTEND;TZID=Europe/Amsterdam:20240504T204500
DTSTAMP:20260424T144550
CREATED:20240206T103131Z
LAST-MODIFIED:20240206T103137Z
UID:1733-1714855500-1714855500@ephraimvanijzerlooij.nl
SUMMARY:'s-Hertogenbosch: Herdenkingsconcert
DESCRIPTION:Met Yizkor van Josef Malkin en Requiem opus 194 van Joseph Rheinberger.
URL:https://ephraimvanijzerlooij.nl/event/s-hertogenbosch-herdenkingsconcert/
LOCATION:Jheronimus Bosch Art Center\, Jeroen Boschplein 2\, 's-Hertogenbosch\, 5211ML
ATTACH;FMTTYPE=image/png:https://ephraimvanijzerlooij.nl/wp-content/uploads/2024/01/Orkest.png
END:VEVENT
BEGIN:VEVENT
DTSTART;TZID=Europe/Amsterdam:20240504T180000
DTEND;TZID=Europe/Amsterdam:20240504T180000
DTSTAMP:20260424T144550
CREATED:20240206T102524Z
LAST-MODIFIED:20240206T103223Z
UID:1729-1714845600-1714845600@ephraimvanijzerlooij.nl
SUMMARY:Oisterwijk: Herdenkingsconcert
DESCRIPTION:Met Yizkor van Josef Malkin en Requiem opus 194 van Joseph Rheinberger.
URL:https://ephraimvanijzerlooij.nl/event/oisterwijk-herdenkingsconcert/
LOCATION:Joanneskerk\, De Lind 50\, Oisterwijk\, 5061HX
ATTACH;FMTTYPE=image/png:https://ephraimvanijzerlooij.nl/wp-content/uploads/2024/01/Orkest.png
END:VEVENT
BEGIN:VEVENT
DTSTART;TZID=Europe/Amsterdam:20240423T200000
DTEND;TZID=Europe/Amsterdam:20240423T213000
DTSTAMP:20260424T144550
CREATED:20240317T155401Z
LAST-MODIFIED:20240317T155407Z
UID:2628-1713902400-1713907800@ephraimvanijzerlooij.nl
SUMMARY:Koorconcert Stichtse Vrije School
DESCRIPTION:Koorconcert SVS \nprogramma: \nThe Phantom of the Opera \nCantique de Jean Racine \nRuben Steinbuch- nieuw werk \nDan Forrest- Requiem for the living
URL:https://ephraimvanijzerlooij.nl/event/koorconcert-stichtse-vrije-school/
LOCATION:Tivoli Vredenburg\, Vredenburgkade 11\, Utrecht\, 3511WC\, Nederland
ATTACH;FMTTYPE=image/png:https://ephraimvanijzerlooij.nl/wp-content/uploads/2024/01/Orkest.png
END:VEVENT
BEGIN:VEVENT
DTSTART;TZID=Europe/Amsterdam:20240401T150000
DTEND;TZID=Europe/Amsterdam:20240401T170000
DTSTAMP:20260424T144550
CREATED:20240317T113333Z
LAST-MODIFIED:20240317T113338Z
UID:2622-1711983600-1711990800@ephraimvanijzerlooij.nl
SUMMARY:Paasviering: De Ik-Ben woorden
DESCRIPTION:Uitvoerenden:\nEuritmie: Elisabeth Appenrodt\, Marleen Matthijsen\, Irene Pouwelse \nSpraak/Verteller: Marjo van der Himst\, Frank Oele \nMuziek: Ephraim van IJzerlooij \nBelichting: Collin Withaar \n  \n 
URL:https://ephraimvanijzerlooij.nl/event/paasviering-de-ik-ben-woorden/
LOCATION:Elisabeth Vreedehuis\, Riouwstraat 1\, Den Haag\, 2585 GP\, Nederland
ORGANIZER;CN="Irene Pouwelse":MAILTO:irenefas@live.nl
END:VEVENT
END:VCALENDAR